Package: AnnotationForge Version: 1.48.0 Command: rm -rf AnnotationForge.buildbin-libdir && mkdir AnnotationForge.buildbin-libdir && /Users/biocbuild/BBS/utils/build-universal.sh AnnotationForge_1.48.0.tar.gz /Library/Frameworks/R.framework/Resources/bin/R AnnotationForge.buildbin-libdir StartedAt: 2025-02-05 14:48:06 -0500 (Wed, 05 Feb 2025) EndedAt: 2025-02-05 14:48:30 -0500 (Wed, 05 Feb 2025) EllapsedTime: 24.0 seconds RetCode: 0 Status: OK PackageFile: AnnotationForge_1.48.0.tgz PackageFileSize: 4.187 MiB