Package: AnnotationForge Version: 1.48.0 Command: /Library/Frameworks/R.framework/Resources/bin/R CMD check --install=check:AnnotationForge.install-out.txt --library=/Library/Frameworks/R.framework/Resources/library --no-vignettes --timings AnnotationForge_1.48.0.tar.gz StartedAt: 2025-02-04 11:17:51 -0500 (Tue, 04 Feb 2025) EndedAt: 2025-02-04 11:20:00 -0500 (Tue, 04 Feb 2025) EllapsedTime: 129.0 seconds RetCode: 0 Status: OK CheckDir: AnnotationForge.Rcheck Warnings: 0