Package: AnnotationForge Version: 1.48.0 Command: /Library/Frameworks/R.framework/Resources/bin/R CMD build --keep-empty-dirs --no-resave-data AnnotationForge StartedAt: 2025-02-03 17:03:02 -0500 (Mon, 03 Feb 2025) EndedAt: 2025-02-03 17:09:44 -0500 (Mon, 03 Feb 2025) EllapsedTime: 402.2 seconds RetCode: 0 Status: OK PackageFile: AnnotationForge_1.48.0.tar.gz PackageFileSize: 3.84 MiB