Package: AnnotationForge Version: 1.48.0 Command: /home/biocbuild/bbs-3.20-bioc/R/bin/R CMD INSTALL AnnotationForge StartedAt: 2025-02-03 15:25:24 -0500 (Mon, 03 Feb 2025) EndedAt: 2025-02-03 15:25:41 -0500 (Mon, 03 Feb 2025) EllapsedTime: 16.7 seconds RetCode: 0 Status: OK