Package: AnnotationForge Version: 1.48.0 Command: rm -rf AnnotationForge.buildbin-libdir && mkdir AnnotationForge.buildbin-libdir && F:\biocbuild\bbs-3.20-bioc\R\bin\R.exe CMD INSTALL --build --library=AnnotationForge.buildbin-libdir AnnotationForge_1.48.0.tar.gz StartedAt: 2025-02-04 07:57:56 -0500 (Tue, 04 Feb 2025) EndedAt: 2025-02-04 08:00:22 -0500 (Tue, 04 Feb 2025) EllapsedTime: 146.3 seconds RetCode: 0 Status: OK PackageFile: AnnotationForge_1.48.0.zip PackageFileSize: 4.375 MiB