Package: AnnotationForge Version: 1.48.0 Command: /home/biocbuild/R/R/bin/R CMD build --keep-empty-dirs --no-resave-data AnnotationForge StartedAt: 2025-02-03 21:36:04 -0000 (Mon, 03 Feb 2025) EndedAt: 2025-02-03 22:16:05 -0000 (Mon, 03 Feb 2025) EllapsedTime: 2400.7 seconds RetCode: None Status: TIMEOUT PackageFile: None PackageFileSize: NA