Package: AnnotationForge Version: 1.48.0 Command: /home/biocbuild/R/R/bin/R CMD INSTALL AnnotationForge StartedAt: 2025-02-03 20:37:07 -0000 (Mon, 03 Feb 2025) EndedAt: 2025-02-03 20:37:30 -0000 (Mon, 03 Feb 2025) EllapsedTime: 22.9 seconds RetCode: 0 Status: OK