Package: AnnotationHub Version: 3.14.0 Command: /Library/Frameworks/R.framework/Resources/bin/R CMD build --keep-empty-dirs --no-resave-data AnnotationHub StartedAt: 2025-02-03 18:40:15 -0500 (Mon, 03 Feb 2025) EndedAt: 2025-02-03 18:43:16 -0500 (Mon, 03 Feb 2025) EllapsedTime: 180.8 seconds RetCode: 0 Status: OK PackageFile: AnnotationHub_3.14.0.tar.gz PackageFileSize: 976.1 KiB