Package: AnnotationHub Version: 3.14.0 Command: /Library/Frameworks/R.framework/Resources/bin/R CMD INSTALL AnnotationHub StartedAt: 2025-02-03 15:40:30 -0500 (Mon, 03 Feb 2025) EndedAt: 2025-02-03 15:40:40 -0500 (Mon, 03 Feb 2025) EllapsedTime: 9.9 seconds RetCode: 0 Status: OK