Package: AnnotationHub Version: 3.14.0 Command: /home/biocbuild/bbs-3.20-bioc/R/bin/R CMD check --install=check:AnnotationHub.install-out.txt --library=/home/biocbuild/bbs-3.20-bioc/R/site-library --timings AnnotationHub_3.14.0.tar.gz StartedAt: 2025-02-03 20:02:56 -0500 (Mon, 03 Feb 2025) EndedAt: 2025-02-03 20:08:49 -0500 (Mon, 03 Feb 2025) EllapsedTime: 352.5 seconds RetCode: 0 Status: OK CheckDir: AnnotationHub.Rcheck Warnings: 0