Package: AnnotationHubData Version: 1.36.0 Command: /Library/Frameworks/R.framework/Resources/bin/R CMD INSTALL AnnotationHubData StartedAt: 2025-02-03 16:25:55 -0500 (Mon, 03 Feb 2025) EndedAt: 2025-02-03 16:26:45 -0500 (Mon, 03 Feb 2025) EllapsedTime: 50.3 seconds RetCode: 0 Status: OK