Package: AnnotationHubData Version: 1.36.0 Command: /Library/Frameworks/R.framework/Resources/bin/R CMD check --install=check:AnnotationHubData.install-out.txt --library=/Library/Frameworks/R.framework/Resources/library --no-vignettes --timings AnnotationHubData_1.36.0.tar.gz StartedAt: 2025-02-03 23:41:41 -0500 (Mon, 03 Feb 2025) EndedAt: 2025-02-03 23:59:15 -0500 (Mon, 03 Feb 2025) EllapsedTime: 1054.2 seconds RetCode: 0 Status: WARNINGS CheckDir: AnnotationHubData.Rcheck Warnings: 1