Package: AnnotationHubData Version: 1.36.0 Command: rm -rf AnnotationHubData.buildbin-libdir && mkdir AnnotationHubData.buildbin-libdir && F:\biocbuild\bbs-3.20-bioc\R\bin\R.exe CMD INSTALL --build --library=AnnotationHubData.buildbin-libdir AnnotationHubData_1.36.0.tar.gz StartedAt: 2025-02-04 07:57:59 -0500 (Tue, 04 Feb 2025) EndedAt: 2025-02-04 08:03:20 -0500 (Tue, 04 Feb 2025) EllapsedTime: 320.4 seconds RetCode: 0 Status: OK PackageFile: AnnotationHubData_1.36.0.zip PackageFileSize: 938.6 KiB