Package: AnnotationHubData Version: 1.36.0 Command: chmod a+r AnnotationHubData -R && F:\biocbuild\bbs-3.20-bioc\R\bin\R.exe CMD build --keep-empty-dirs --no-resave-data AnnotationHubData StartedAt: 2025-02-03 17:29:26 -0500 (Mon, 03 Feb 2025) EndedAt: 2025-02-03 17:31:28 -0500 (Mon, 03 Feb 2025) EllapsedTime: 122.0 seconds RetCode: 0 Status: OK PackageFile: AnnotationHubData_1.36.0.tar.gz PackageFileSize: 400.4 KiB