Package: AnnotationHubData
Version: 1.36.0
Command: /home/biocbuild/R/R/bin/R CMD build --keep-empty-dirs --no-resave-data AnnotationHubData
StartedAt: 2025-02-17 21:28:44 -0000 (Mon, 17 Feb 2025)
EndedAt: 2025-02-17 21:29:37 -0000 (Mon, 17 Feb 2025)
EllapsedTime: 53.0 seconds
RetCode: 0
Status: OK
PackageFile: AnnotationHubData_1.36.0.tar.gz
PackageFileSize: 425.3 <A href="http://en.wikipedia.org/wiki/KiB" target="_blank">KiB</A>