Package: ArrayExpress Version: 1.66.0 Command: /Library/Frameworks/R.framework/Resources/bin/R CMD build --keep-empty-dirs --no-resave-data ArrayExpress StartedAt: 2025-02-03 18:45:26 -0500 (Mon, 03 Feb 2025) EndedAt: 2025-02-03 18:47:15 -0500 (Mon, 03 Feb 2025) EllapsedTime: 108.5 seconds RetCode: 0 Status: OK PackageFile: ArrayExpress_1.66.0.tar.gz PackageFileSize: 136.5 KiB