Package: ArrayExpress Version: 1.66.0 Command: /Library/Frameworks/R.framework/Resources/bin/R CMD build --keep-empty-dirs --no-resave-data ArrayExpress StartedAt: 2025-02-03 17:05:07 -0500 (Mon, 03 Feb 2025) EndedAt: 2025-02-03 17:09:00 -0500 (Mon, 03 Feb 2025) EllapsedTime: 232.4 seconds RetCode: 0 Status: OK PackageFile: ArrayExpress_1.66.0.tar.gz PackageFileSize: 137.1 KiB