Package: ArrayExpress Version: 1.66.0 Command: /Library/Frameworks/R.framework/Resources/bin/R CMD check --install=check:ArrayExpress.install-out.txt --library=/Library/Frameworks/R.framework/Resources/library --no-vignettes --timings ArrayExpress_1.66.0.tar.gz StartedAt: 2025-02-03 23:46:05 -0500 (Mon, 03 Feb 2025) EndedAt: 2025-02-03 23:55:17 -0500 (Mon, 03 Feb 2025) EllapsedTime: 551.1 seconds RetCode: 0 Status: OK CheckDir: ArrayExpress.Rcheck Warnings: 0