Package: ArrayExpress Version: 1.66.0 Command: rm -rf ArrayExpress.buildbin-libdir && mkdir ArrayExpress.buildbin-libdir && F:\biocbuild\bbs-3.20-bioc\R\bin\R.exe CMD INSTALL --build --library=ArrayExpress.buildbin-libdir ArrayExpress_1.66.0.tar.gz StartedAt: 2025-02-04 07:58:59 -0500 (Tue, 04 Feb 2025) EndedAt: 2025-02-04 07:59:31 -0500 (Tue, 04 Feb 2025) EllapsedTime: 31.3 seconds RetCode: 0 Status: OK PackageFile: ArrayExpress_1.66.0.zip PackageFileSize: 186.7 KiB