Package: ArrayExpress Version: 1.66.0 Command: chmod a+r ArrayExpress -R && F:\biocbuild\bbs-3.20-bioc\R\bin\R.exe CMD build --keep-empty-dirs --no-resave-data ArrayExpress StartedAt: 2025-02-03 17:31:21 -0500 (Mon, 03 Feb 2025) EndedAt: 2025-02-03 17:34:16 -0500 (Mon, 03 Feb 2025) EllapsedTime: 175.1 seconds RetCode: 0 Status: OK PackageFile: ArrayExpress_1.66.0.tar.gz PackageFileSize: 137.6 KiB