Package: ArrayExpress Version: 1.66.0 Command: F:\biocbuild\bbs-3.20-bioc\R\bin\R.exe CMD check --no-multiarch --install=check:ArrayExpress.install-out.txt --library=F:\biocbuild\bbs-3.20-bioc\R\library --no-vignettes --timings ArrayExpress_1.66.0.tar.gz StartedAt: 2025-02-03 23:10:49 -0500 (Mon, 03 Feb 2025) EndedAt: 2025-02-03 23:16:15 -0500 (Mon, 03 Feb 2025) EllapsedTime: 325.7 seconds RetCode: 0 Status: OK CheckDir: ArrayExpress.Rcheck Warnings: 0