Package: AssessORF Version: 1.24.0 Command: rm -rf AssessORF.buildbin-libdir && mkdir AssessORF.buildbin-libdir && /Users/biocbuild/BBS/utils/build-universal.sh AssessORF_1.24.0.tar.gz /Library/Frameworks/R.framework/Resources/bin/R AssessORF.buildbin-libdir StartedAt: 2025-02-04 12:28:27 -0500 (Tue, 04 Feb 2025) EndedAt: 2025-02-04 12:28:59 -0500 (Tue, 04 Feb 2025) EllapsedTime: 31.2 seconds RetCode: 0 Status: OK PackageFile: AssessORF_1.24.0.tgz PackageFileSize: 4.798 MiB