Package: AssessORF Version: 1.24.0 Command: /Library/Frameworks/R.framework/Resources/bin/R CMD build --keep-empty-dirs --no-resave-data AssessORF StartedAt: 2025-02-03 17:06:36 -0500 (Mon, 03 Feb 2025) EndedAt: 2025-02-03 17:08:09 -0500 (Mon, 03 Feb 2025) EllapsedTime: 92.7 seconds RetCode: 0 Status: OK PackageFile: AssessORF_1.24.0.tar.gz PackageFileSize: 4.704 MiB