Package: BADER Version: 1.44.0 Command: rm -rf BADER.buildbin-libdir && mkdir BADER.buildbin-libdir && /Users/biocbuild/BBS/utils/build-universal.sh BADER_1.44.0.tar.gz /Library/Frameworks/R.framework/Resources/bin/R BADER.buildbin-libdir StartedAt: 2025-02-01 13:57:05 -0500 (Sat, 01 Feb 2025) EndedAt: 2025-02-01 13:57:11 -0500 (Sat, 01 Feb 2025) EllapsedTime: 5.8 seconds RetCode: 0 Status: OK PackageFile: BADER_1.44.0.tgz PackageFileSize: 258.4 KiB