Package: BADER Version: 1.44.0 Command: /Library/Frameworks/R.framework/Resources/bin/R CMD build --keep-empty-dirs --no-resave-data BADER StartedAt: 2025-01-30 19:09:09 -0500 (Thu, 30 Jan 2025) EndedAt: 2025-01-30 19:09:36 -0500 (Thu, 30 Jan 2025) EllapsedTime: 26.4 seconds RetCode: 0 Status: OK PackageFile: BADER_1.44.0.tar.gz PackageFileSize: 238.3 KiB