Package: BADER Version: 1.44.0 Command: rm -rf BADER.buildbin-libdir && mkdir BADER.buildbin-libdir && /Users/biocbuild/BBS/utils/build-universal.sh BADER_1.44.0.tar.gz /Library/Frameworks/R.framework/Resources/bin/R BADER.buildbin-libdir StartedAt: 2025-01-31 12:21:19 -0500 (Fri, 31 Jan 2025) EndedAt: 2025-01-31 12:21:29 -0500 (Fri, 31 Jan 2025) EllapsedTime: 9.8 seconds RetCode: 0 Status: OK PackageFile: BADER_1.44.0.tgz PackageFileSize: 256.8 KiB