Package: BADER Version: 1.44.0 Command: /home/biocbuild/bbs-3.20-bioc/R/bin/R CMD build --keep-empty-dirs --no-resave-data --md5 BADER StartedAt: 2025-01-30 16:15:36 -0500 (Thu, 30 Jan 2025) EndedAt: 2025-01-30 16:15:52 -0500 (Thu, 30 Jan 2025) EllapsedTime: 16.0 seconds RetCode: 0 Status: OK PackageFile: BADER_1.44.0.tar.gz PackageFileSize: 238.9 KiB