Package: BADER Version: 1.44.0 Command: rm -rf BADER.buildbin-libdir && mkdir BADER.buildbin-libdir && F:\biocbuild\bbs-3.20-bioc\R\bin\R.exe CMD INSTALL --build --library=BADER.buildbin-libdir BADER_1.44.0.tar.gz StartedAt: 2025-01-31 08:10:47 -0500 (Fri, 31 Jan 2025) EndedAt: 2025-01-31 08:10:56 -0500 (Fri, 31 Jan 2025) EllapsedTime: 9.4 seconds RetCode: 0 Status: OK PackageFile: BADER_1.44.0.zip PackageFileSize: 233.9 KiB