Package: BADER Version: 1.44.0 Command: chmod a+r BADER -R && F:\biocbuild\bbs-3.20-bioc\R\bin\R.exe CMD build --keep-empty-dirs --no-resave-data BADER StartedAt: 2025-01-30 17:23:19 -0500 (Thu, 30 Jan 2025) EndedAt: 2025-01-30 17:23:54 -0500 (Thu, 30 Jan 2025) EllapsedTime: 35.3 seconds RetCode: 0 Status: OK PackageFile: BADER_1.44.0.tar.gz PackageFileSize: 148.2 KiB