Package: BADER Version: 1.44.0 Command: F:\biocbuild\bbs-3.20-bioc\R\bin\R.exe CMD check --no-multiarch --install=check:BADER.install-out.txt --library=F:\biocbuild\bbs-3.20-bioc\R\library --no-vignettes --timings BADER_1.44.0.tar.gz StartedAt: 2025-01-30 23:30:11 -0500 (Thu, 30 Jan 2025) EndedAt: 2025-01-30 23:30:43 -0500 (Thu, 30 Jan 2025) EllapsedTime: 31.7 seconds RetCode: 0 Status: OK CheckDir: BADER.Rcheck Warnings: 0