Package: BADER Version: 1.44.0 Command: F:\biocbuild\bbs-3.20-bioc\R\bin\R.exe CMD INSTALL BADER StartedAt: 2025-01-30 15:18:43 -0500 (Thu, 30 Jan 2025) EndedAt: 2025-01-30 15:21:02 -0500 (Thu, 30 Jan 2025) EllapsedTime: 139.2 seconds RetCode: 0 Status: OK