Package: BAGS Version: 2.46.0 Command: /Library/Frameworks/R.framework/Resources/bin/R CMD build --keep-empty-dirs --no-resave-data BAGS StartedAt: 2025-02-03 18:59:58 -0500 (Mon, 03 Feb 2025) EndedAt: 2025-02-03 19:00:33 -0500 (Mon, 03 Feb 2025) EllapsedTime: 34.4 seconds RetCode: 0 Status: OK PackageFile: BAGS_2.46.0.tar.gz PackageFileSize: 273.3 KiB