Package: BAGS Version: 2.46.0 Command: /Library/Frameworks/R.framework/Resources/bin/R CMD check --install=check:BAGS.install-out.txt --library=/Library/Frameworks/R.framework/Resources/library --no-vignettes --timings BAGS_2.46.0.tar.gz StartedAt: 2025-02-04 11:50:08 -0500 (Tue, 04 Feb 2025) EndedAt: 2025-02-04 11:51:19 -0500 (Tue, 04 Feb 2025) EllapsedTime: 70.4 seconds RetCode: 0 Status: OK CheckDir: BAGS.Rcheck Warnings: 0