Package: BAGS
Version: 2.46.0
Command: F:\biocbuild\bbs-3.20-bioc\R\bin\R.exe CMD check --no-multiarch --install=check:BAGS.install-out.txt --library=F:\biocbuild\bbs-3.20-bioc\R\library --no-vignettes --timings BAGS_2.46.0.tar.gz
StartedAt: 2025-02-17 23:03:20 -0500 (Mon, 17 Feb 2025)
EndedAt: 2025-02-17 23:04:47 -0500 (Mon, 17 Feb 2025)
EllapsedTime: 86.6 seconds
RetCode: 0
Status: OK
CheckDir: BAGS.Rcheck
Warnings: 0