Package: BANDITS Version: 1.22.0 Command: rm -rf BANDITS.buildbin-libdir && mkdir BANDITS.buildbin-libdir && /Users/biocbuild/BBS/utils/build-universal.sh BANDITS_1.22.0.tar.gz /Library/Frameworks/R.framework/Resources/bin/R BANDITS.buildbin-libdir StartedAt: 2025-02-05 14:52:23 -0500 (Wed, 05 Feb 2025) EndedAt: 2025-02-05 14:53:22 -0500 (Wed, 05 Feb 2025) EllapsedTime: 59.5 seconds RetCode: 0 Status: OK PackageFile: BANDITS_1.22.0.tgz PackageFileSize: 1.601 MiB