Package: BANDITS Version: 1.22.0 Command: rm -rf BANDITS.buildbin-libdir && mkdir BANDITS.buildbin-libdir && F:\biocbuild\bbs-3.20-bioc\R\bin\R.exe CMD INSTALL --build --library=BANDITS.buildbin-libdir BANDITS_1.22.0.tar.gz StartedAt: 2025-02-04 08:00:22 -0500 (Tue, 04 Feb 2025) EndedAt: 2025-02-04 08:01:43 -0500 (Tue, 04 Feb 2025) EllapsedTime: 80.8 seconds RetCode: 0 Status: OK PackageFile: BANDITS_1.22.0.zip PackageFileSize: 1.742 MiB