Package: BANDITS Version: 1.22.0 Command: chmod a+r BANDITS -R && F:\biocbuild\bbs-3.20-bioc\R\bin\R.exe CMD build --keep-empty-dirs --no-resave-data BANDITS StartedAt: 2025-02-03 17:36:16 -0500 (Mon, 03 Feb 2025) EndedAt: 2025-02-03 17:40:00 -0500 (Mon, 03 Feb 2025) EllapsedTime: 224.0 seconds RetCode: 0 Status: OK PackageFile: BANDITS_1.22.0.tar.gz PackageFileSize: 1.056 MiB