Package: BANDITS Version: 1.22.0 Command: F:\biocbuild\bbs-3.20-bioc\R\bin\R.exe CMD check --no-multiarch --install=check:BANDITS.install-out.txt --library=F:\biocbuild\bbs-3.20-bioc\R\library --no-vignettes --timings BANDITS_1.22.0.tar.gz StartedAt: 2025-02-03 23:17:40 -0500 (Mon, 03 Feb 2025) EndedAt: 2025-02-03 23:21:04 -0500 (Mon, 03 Feb 2025) EllapsedTime: 204.3 seconds RetCode: 0 Status: OK CheckDir: BANDITS.Rcheck Warnings: 0