Package: BASiCS Version: 2.18.0 Command: /Library/Frameworks/R.framework/Resources/bin/R CMD INSTALL BASiCS StartedAt: 2025-02-03 17:45:38 -0500 (Mon, 03 Feb 2025) EndedAt: 2025-02-03 17:46:49 -0500 (Mon, 03 Feb 2025) EllapsedTime: 71.5 seconds RetCode: 0 Status: OK