Package: BASiCS Version: 2.18.0 Command: rm -rf BASiCS.buildbin-libdir && mkdir BASiCS.buildbin-libdir && /Users/biocbuild/BBS/utils/build-universal.sh BASiCS_2.18.0.tar.gz /Library/Frameworks/R.framework/Resources/bin/R BASiCS.buildbin-libdir StartedAt: 2025-02-04 12:29:58 -0500 (Tue, 04 Feb 2025) EndedAt: 2025-02-04 12:32:37 -0500 (Tue, 04 Feb 2025) EllapsedTime: 158.8 seconds RetCode: 0 Status: OK PackageFile: BASiCS_2.18.0.tgz PackageFileSize: 3.926 MiB