Package: BASiCS Version: 2.18.0 Command: /Library/Frameworks/R.framework/Resources/bin/R CMD check --install=check:BASiCS.install-out.txt --library=/Library/Frameworks/R.framework/Resources/library --no-vignettes --timings BASiCS_2.18.0.tar.gz StartedAt: 2025-02-03 23:59:15 -0500 (Mon, 03 Feb 2025) EndedAt: 2025-02-04 00:19:43 -0500 (Tue, 04 Feb 2025) EllapsedTime: 1227.8 seconds RetCode: 0 Status: OK CheckDir: BASiCS.Rcheck Warnings: 0