Package: BASiCS Version: 2.18.0 Command: /home/biocbuild/bbs-3.20-bioc/R/bin/R CMD check --install=check:BASiCS.install-out.txt --library=/home/biocbuild/bbs-3.20-bioc/R/site-library --timings BASiCS_2.18.0.tar.gz StartedAt: 2025-02-03 20:13:28 -0500 (Mon, 03 Feb 2025) EndedAt: 2025-02-03 20:22:21 -0500 (Mon, 03 Feb 2025) EllapsedTime: 533.5 seconds RetCode: 0 Status: OK CheckDir: BASiCS.Rcheck Warnings: 0