Package: BASiCS Version: 2.18.0 Command: /home/biocbuild/bbs-3.20-bioc/R/bin/R CMD INSTALL BASiCS StartedAt: 2025-02-03 16:02:01 -0500 (Mon, 03 Feb 2025) EndedAt: 2025-02-03 16:03:21 -0500 (Mon, 03 Feb 2025) EllapsedTime: 79.6 seconds RetCode: 0 Status: OK