Package: BASiCS Version: 2.18.0 Command: chmod a+r BASiCS -R && F:\biocbuild\bbs-3.20-bioc\R\bin\R.exe CMD build --keep-empty-dirs --no-resave-data BASiCS StartedAt: 2025-02-03 17:37:05 -0500 (Mon, 03 Feb 2025) EndedAt: 2025-02-03 17:39:36 -0500 (Mon, 03 Feb 2025) EllapsedTime: 150.9 seconds RetCode: 0 Status: OK PackageFile: BASiCS_2.18.0.tar.gz PackageFileSize: 2.958 MiB