Package: BASiCS Version: 2.18.0 Command: /home/biocbuild/R/R/bin/R CMD check --install=check:BASiCS.install-out.txt --library=/home/biocbuild/R/R/site-library --no-vignettes --timings BASiCS_2.18.0.tar.gz StartedAt: 2025-02-04 04:34:48 -0000 (Tue, 04 Feb 2025) EndedAt: 2025-02-04 04:49:33 -0000 (Tue, 04 Feb 2025) EllapsedTime: 884.9 seconds RetCode: 0 Status: OK CheckDir: BASiCS.Rcheck Warnings: 0