Package: BASiCS Version: 2.18.0 Command: /home/biocbuild/R/R/bin/R CMD INSTALL BASiCS StartedAt: 2025-02-03 21:17:13 -0000 (Mon, 03 Feb 2025) EndedAt: 2025-02-03 21:18:51 -0000 (Mon, 03 Feb 2025) EllapsedTime: 98.4 seconds RetCode: 0 Status: OK