Package: BBCAnalyzer Version: 1.36.0 Command: /Library/Frameworks/R.framework/Resources/bin/R CMD build --keep-empty-dirs --no-resave-data BBCAnalyzer StartedAt: 2025-02-03 17:13:47 -0500 (Mon, 03 Feb 2025) EndedAt: 2025-02-03 17:32:43 -0500 (Mon, 03 Feb 2025) EllapsedTime: 1135.7 seconds RetCode: 0 Status: OK PackageFile: BBCAnalyzer_1.36.0.tar.gz PackageFileSize: 2.203 MiB