Package: BBCAnalyzer Version: 1.36.0 Command: /Library/Frameworks/R.framework/Resources/bin/R CMD INSTALL BBCAnalyzer StartedAt: 2025-02-03 15:46:51 -0500 (Mon, 03 Feb 2025) EndedAt: 2025-02-03 15:48:25 -0500 (Mon, 03 Feb 2025) EllapsedTime: 94.5 seconds RetCode: 0 Status: OK