Package: BBCAnalyzer Version: 1.36.0 Command: rm -rf BBCAnalyzer.buildbin-libdir && mkdir BBCAnalyzer.buildbin-libdir && F:\biocbuild\bbs-3.20-bioc\R\bin\R.exe CMD INSTALL --build --library=BBCAnalyzer.buildbin-libdir BBCAnalyzer_1.36.0.tar.gz StartedAt: 2025-02-04 08:01:18 -0500 (Tue, 04 Feb 2025) EndedAt: 2025-02-04 08:02:25 -0500 (Tue, 04 Feb 2025) EllapsedTime: 66.9 seconds RetCode: 0 Status: OK PackageFile: BBCAnalyzer_1.36.0.zip PackageFileSize: 1.941 MiB