Package: BBCAnalyzer Version: 1.36.0 Command: F:\biocbuild\bbs-3.20-bioc\R\bin\R.exe CMD INSTALL BBCAnalyzer StartedAt: 2025-02-03 16:52:59 -0500 (Mon, 03 Feb 2025) EndedAt: 2025-02-03 16:54:43 -0500 (Mon, 03 Feb 2025) EllapsedTime: 103.9 seconds RetCode: 0 Status: OK